BEGIN:VCALENDAR
VERSION:2.0
PRODID:-//Trimper Rides | Rides, Games &amp; Family Fun in Ocean City - ECPv6.15.20//NONSGML v1.0//EN
CALSCALE:GREGORIAN
METHOD:PUBLISH
X-WR-CALNAME:Trimper Rides | Rides, Games &amp; Family Fun in Ocean City
X-ORIGINAL-URL:https://trimperrides.com
X-WR-CALDESC:Events for Trimper Rides | Rides, Games &amp; Family Fun in Ocean City
REFRESH-INTERVAL;VALUE=DURATION:PT1H
X-Robots-Tag:noindex
X-PUBLISHED-TTL:PT1H
BEGIN:VTIMEZONE
TZID:America/New_York
BEGIN:DAYLIGHT
TZOFFSETFROM:-0500
TZOFFSETTO:-0400
TZNAME:EDT
DTSTART:20240310T070000
END:DAYLIGHT
BEGIN:STANDARD
TZOFFSETFROM:-0400
TZOFFSETTO:-0500
TZNAME:EST
DTSTART:20241103T060000
END:STANDARD
BEGIN:DAYLIGHT
TZOFFSETFROM:-0500
TZOFFSETTO:-0400
TZNAME:EDT
DTSTART:20250309T070000
END:DAYLIGHT
BEGIN:STANDARD
TZOFFSETFROM:-0400
TZOFFSETTO:-0500
TZNAME:EST
DTSTART:20251102T060000
END:STANDARD
BEGIN:DAYLIGHT
TZOFFSETFROM:-0500
TZOFFSETTO:-0400
TZNAME:EDT
DTSTART:20260308T070000
END:DAYLIGHT
BEGIN:STANDARD
TZOFFSETFROM:-0400
TZOFFSETTO:-0500
TZNAME:EST
DTSTART:20261101T060000
END:STANDARD
END:VTIMEZONE
BEGIN:VEVENT
DTSTART;TZID=America/New_York:20250518T000000
DTEND;TZID=America/New_York:20250518T235959
DTSTAMP:20260422T202340
CREATED:20250305T202557Z
LAST-MODIFIED:20250305T205805Z
UID:10000021-1747526400-1747612799@trimperrides.com
SUMMARY:Boardwalk Rock 2025 Sunday Parking
DESCRIPTION:Avoid the hassle and ensure a stress-free experience at this year’s Boardwalk Rock concert by booking your parking spot directly through Trimper Rides! Our conveniently located parking lot is right by the show entrances near the inlet\, offering you quick and easy access to all the action. Don’t waste time stuck in traffic or waiting for packed buses and elusive Ubers. Reserve your parking space now and enjoy a smooth\, swift entry to an unforgettable night of music and fun. Spots are limited\, so act fast!
URL:https://trimperrides.com/event/boardwalk-rock-2025-sunday-parking/
LOCATION:Parking Lot C\, 710 S. Baltimore Ave.\, Ocean City\, MD\, 21842\, United States
CATEGORIES:parking
ATTACH;FMTTYPE=image/png:https://trimperrides.com/wp-content/uploads/2025/03/67b60319c0d3b3bf6fb0ad02_BWR25_Schedules_Sunday-1080x1350-p-1600.png
END:VEVENT
BEGIN:VEVENT
DTSTART;TZID=America/New_York:20250517T000000
DTEND;TZID=America/New_York:20250517T235959
DTSTAMP:20260422T202340
CREATED:20250305T202105Z
LAST-MODIFIED:20250305T203752Z
UID:10000020-1747440000-1747526399@trimperrides.com
SUMMARY:Boardwalk Rock 2025 Saturday Parking
DESCRIPTION:Avoid the hassle and ensure a stress-free experience at this year’s Boardwalk Rock concert by booking your parking spot directly through Trimper Rides! Our conveniently located parking lot is right by the show entrances near the inlet\, offering you quick and easy access to all the action. Don’t waste time stuck in traffic or waiting for packed buses and elusive Ubers. Reserve your parking space now and enjoy a smooth\, swift entry to an unforgettable night of music and fun. Spots are limited\, so act fast!
URL:https://trimperrides.com/event/boardwalk-rock-2025-saturday-parking/
LOCATION:Parking Lot C\, 710 S. Baltimore Ave.\, Ocean City\, MD\, 21842\, United States
CATEGORIES:parking
ATTACH;FMTTYPE=image/png:https://trimperrides.com/wp-content/uploads/2025/03/67b642913e7513557f434a3f_BWR25_Schedules_Saturday-1080x135034-p-1600.png
END:VEVENT
END:VCALENDAR