BEGIN:VCALENDAR
VERSION:2.0
PRODID:-//Trimper Rides | Rides, Games &amp; Family Fun in Ocean City - ECPv6.15.20//NONSGML v1.0//EN
CALSCALE:GREGORIAN
METHOD:PUBLISH
X-WR-CALNAME:Trimper Rides | Rides, Games &amp; Family Fun in Ocean City
X-ORIGINAL-URL:https://trimperrides.com
X-WR-CALDESC:Events for Trimper Rides | Rides, Games &amp; Family Fun in Ocean City
REFRESH-INTERVAL;VALUE=DURATION:PT1H
X-Robots-Tag:noindex
X-PUBLISHED-TTL:PT1H
BEGIN:VTIMEZONE
TZID:America/New_York
BEGIN:DAYLIGHT
TZOFFSETFROM:-0500
TZOFFSETTO:-0400
TZNAME:EDT
DTSTART:20240310T070000
END:DAYLIGHT
BEGIN:STANDARD
TZOFFSETFROM:-0400
TZOFFSETTO:-0500
TZNAME:EST
DTSTART:20241103T060000
END:STANDARD
BEGIN:DAYLIGHT
TZOFFSETFROM:-0500
TZOFFSETTO:-0400
TZNAME:EDT
DTSTART:20250309T070000
END:DAYLIGHT
BEGIN:STANDARD
TZOFFSETFROM:-0400
TZOFFSETTO:-0500
TZNAME:EST
DTSTART:20251102T060000
END:STANDARD
BEGIN:DAYLIGHT
TZOFFSETFROM:-0500
TZOFFSETTO:-0400
TZNAME:EDT
DTSTART:20260308T070000
END:DAYLIGHT
BEGIN:STANDARD
TZOFFSETFROM:-0400
TZOFFSETTO:-0500
TZNAME:EST
DTSTART:20261101T060000
END:STANDARD
END:VTIMEZONE
BEGIN:VEVENT
DTSTART;TZID=America/New_York:20251005T100000
DTEND;TZID=America/New_York:20251005T235900
DTSTAMP:20260422T183821
CREATED:20250825T145708Z
LAST-MODIFIED:20251003T181104Z
UID:10000029-1759658400-1759708740@trimperrides.com
SUMMARY:Country Calling 2025 Sunday Parking
DESCRIPTION:Oceans Calling 2025 Saturday Lineup\n\n\n\nAvoid the hassle and ensure a stress-free experience at this year’s Country Calling concert by booking your parking spot directly through Trimper Rides! Our conveniently located parking lot is right by the show entrances near the inlet\, offering you quick and easy access to all the action. Don’t waste time stuck in traffic or waiting for packed buses and elusive Ubers. Reserve your parking space now and enjoy a smooth\, swift entry to an unforgettable night of music and fun. Spots are limited\, so act fast! \n\n\n\nSkip the gridlock and park steps from the festival. Your pass reserves one vehicle for Sunday\, October 5 in Trimper Rides Lot C or an adjacent Trimper lot. Show your QR code on arrival and our team will direct you to the next available space. \n\n\n\nFast facts \n\n\n\n\nLots open at 10:00 AM\n\n\n\nPlease arrive and park by 6:00 PM\n\n\n\nOne ticket covers one vehicle\n\n\n\nNo trailers or oversize vehicles over 20 feet\n\n\n\nNo guaranteed re-entry if you leave mid-day\n\n\n\nLast vehicle exit by 11:59 PM\n\n\n\n\n\n\n\n\nHow check-in works \n\n\n\n\nPull in from Philadelphia Ave at S. 1st St.\n\n\n\nWatch for attendants on Baltimore Ave\n\n\n\nShow your QR code to the attendant.\n\n\n\nFollow directions to your space in Lot C or the next Trimper Rides lot in sequence.\n\n\n\n\n\n\n\n\nWhere to enterAll Trimper lots are accessed starting at Baltimore Ave and South 1st Street. Attendants fill lots in order and will wave you through if a lot is full. \n\n\n\nThe fine print \n\n\n\nPasses are non-refundable and non-transferable. Park at your own risk. \n\n\n\nOne check-in per pass. Leaving mid-day may require a new fee and is subject to space. \n\n\n\nOvernight parking is not permitted. Vehicle must be removed by 11:59 PM. \n\n\n\nTown road closures for entry begin around 7:00 PM. Be prepared to show your parking pass to Police Officers or others directing traffic in the area. \n\n\n\n\n\nBuying for multiple days? Add Friday\, Saturday\, and Sunday to your cart\, then check out.\n\n\n\n	\n\n		\n		\n		\n\n		\n\n\n		\n\n\n\n	Tickets\n\n		\n	\n	\n		The numbers below include tickets for this event already in your cart. Clicking "Get Tickets" will allow you to edit any existing attendee information as well as change ticket quantities.	\n\n\n		\n		\n		\n	\n		Tickets are no longer available	\n\n\n		\n	\n	\n\n	\n	\n\n	\n	\n\n\n\n			\n\n	\n\n\n\n\n\n\n	\n\n		\n		\n		\n\n		\n\n\n		\n\n\n\n	Tickets\n\n		\n	\n	\n		The numbers below include tickets for this event already in your cart. Clicking "Get Tickets" will allow you to edit any existing attendee information as well as change ticket quantities.	\n\n\n		\n		\n		\n	\n		Tickets are no longer available	\n\n\n		\n	\n	\n\n	\n	\n\n	\n	\n\n\n\n			\n\n	\n\n\n\n\n\n\n	\n\n		\n		\n		\n\n		\n\n\n		\n\n\n\n	Tickets\n\n		\n	\n	\n		The numbers below include tickets for this event already in your cart. Clicking "Get Tickets" will allow you to edit any existing attendee information as well as change ticket quantities.	\n\n\n		\n		\n		\n	\n		Tickets are no longer available
URL:https://trimperrides.com/event/country-calling-2025-sunday-parking/
LOCATION:Parking Lot C\, 710 S. Baltimore Ave.\, Ocean City\, MD\, 21842\, United States
CATEGORIES:parking
ATTACH;FMTTYPE=image/png:https://trimperrides.com/wp-content/uploads/2025/08/689b5f41a48b1f428a8ee950_CC25_Admats_Socials_1080x1350-general-081125-1-scaled.png
END:VEVENT
BEGIN:VEVENT
DTSTART;TZID=America/New_York:20251004T100000
DTEND;TZID=America/New_York:20251004T235900
DTSTAMP:20260422T183821
CREATED:20250825T145328Z
LAST-MODIFIED:20251003T181154Z
UID:10000028-1759572000-1759622340@trimperrides.com
SUMMARY:Country Calling 2025 Saturday Parking
DESCRIPTION:Oceans Calling 2025 Saturday lineup\n\n\n\nAvoid the hassle and ensure a stress-free experience at this year’s Country Calling concert by booking your parking spot directly through Trimper Rides! Our conveniently located parking lot is right by the show entrances near the inlet\, offering you quick and easy access to all the action. Don’t waste time stuck in traffic or waiting for packed buses and elusive Ubers. Reserve your parking space now and enjoy a smooth\, swift entry to an unforgettable night of music and fun. Spots are limited\, so act fast! \n\n\n\nSkip the gridlock and park steps from the festival. Your pass reserves one vehicle for Saturday\, October 4 in Trimper Rides Lot C or an adjacent Trimper lot. Show your QR code on arrival and our team will direct you to the next available space. \n\n\n\nFast facts \n\n\n\n\nLots open at 10:00 AM\n\n\n\nPlease arrive and park by 6:00 PM\n\n\n\nOne ticket covers one vehicle\n\n\n\nNo trailers or oversize vehicles over 20 feet\n\n\n\nNo guaranteed re-entry if you leave mid-day\n\n\n\nLast vehicle exit by 11:59 PM\n\n\n\n\n\n\n\n\nHow check-in works \n\n\n\n\nPull in from Philadelphia Ave at S. 1st St.\n\n\n\nWatch for attendants on Baltimore Ave\n\n\n\nShow your QR code to the attendant.\n\n\n\nFollow directions to your space in Lot C or the next Trimper Rides lot in sequence.\n\n\n\n\n\n\n\n\nWhere to enterAll Trimper lots are accessed starting at Baltimore Ave and South 1st Street. Attendants fill lots in order and will wave you through if a lot is full. \n\n\n\nThe fine print \n\n\n\nPasses are non-refundable and non-transferable. Park at your own risk. \n\n\n\nOne check-in per pass. Leaving mid-day may require a new fee and is subject to space. \n\n\n\nOvernight parking is not permitted. Vehicle must be removed by 11:59 PM. \n\n\n\nTown road closures for entry begin around 7:00 PM. Be prepared to show your parking pass to Police Officers or others directing traffic in the area. \n\n\n\n\n\nBuying for multiple days? Add Friday\, Saturday\, and Sunday to your cart\, then check out.\n\n\n\n	\n\n		\n		\n		\n\n		\n\n\n		\n\n\n\n	Tickets\n\n		\n	\n	\n		The numbers below include tickets for this event already in your cart. Clicking "Get Tickets" will allow you to edit any existing attendee information as well as change ticket quantities.	\n\n\n		\n		\n		\n	\n		Tickets are no longer available	\n\n\n		\n	\n	\n\n	\n	\n\n	\n	\n\n\n\n			\n\n	\n\n\n\n\n\n\n	\n\n		\n		\n		\n\n		\n\n\n		\n\n\n\n	Tickets\n\n		\n	\n	\n		The numbers below include tickets for this event already in your cart. Clicking "Get Tickets" will allow you to edit any existing attendee information as well as change ticket quantities.	\n\n\n		\n		\n		\n	\n		Tickets are no longer available	\n\n\n		\n	\n	\n\n	\n	\n\n	\n	\n\n\n\n			\n\n	\n\n\n\n\n\n\n	\n\n		\n		\n		\n\n		\n\n\n		\n\n\n\n	Tickets\n\n		\n	\n	\n		The numbers below include tickets for this event already in your cart. Clicking "Get Tickets" will allow you to edit any existing attendee information as well as change ticket quantities.	\n\n\n		\n		\n		\n	\n		Tickets are no longer available
URL:https://trimperrides.com/event/country-calling-2025-saturday-parking/
LOCATION:Parking Lot C\, 710 S. Baltimore Ave.\, Ocean City\, MD\, 21842\, United States
CATEGORIES:parking
ATTACH;FMTTYPE=image/png:https://trimperrides.com/wp-content/uploads/2025/08/689b5f41a48b1f428a8ee950_CC25_Admats_Socials_1080x1350-general-081125-1-scaled.png
END:VEVENT
BEGIN:VEVENT
DTSTART;TZID=America/New_York:20251003T100000
DTEND;TZID=America/New_York:20251003T235900
DTSTAMP:20260422T183821
CREATED:20250825T145047Z
LAST-MODIFIED:20251003T180945Z
UID:10000027-1759485600-1759535940@trimperrides.com
SUMMARY:Country Calling 2025 Friday Parking
DESCRIPTION:Avoid the hassle and ensure a stress-free experience at this year’s Country Calling concert by booking your parking spot directly through Trimper Rides! Our conveniently located parking lot is right by the show entrances near the inlet\, offering you quick and easy access to all the action. Don’t waste time stuck in traffic or waiting for packed buses and elusive Ubers. Reserve your parking space now and enjoy a smooth\, swift entry to an unforgettable night of music and fun. Spots are limited\, so act fast! \n\n\n\nSkip the gridlock and park steps from the festival. Your pass reserves one vehicle for Friday\, October 3 in Trimper Rides Lot C or an adjacent Trimper lot. Show your QR code on arrival and our team will direct you to the next available space. \n\n\n\nFast facts \n\n\n\n\nLots open at 10:00 AM\n\n\n\nPlease arrive and park by 6:00 PM\n\n\n\nOne ticket covers one vehicle\n\n\n\nNo trailers or oversize vehicles over 20 feet\n\n\n\nNo guaranteed re-entry if you leave mid-day\n\n\n\nLast vehicle exit by 11:59 PM\n\n\n\n\n\n\n\n\nHow check-in works \n\n\n\n\nPull in from Philadelphia Ave at S. 1st St.\n\n\n\nWatch for attendants on Baltimore Ave\n\n\n\nShow your QR code to the attendant.\n\n\n\nFollow directions to your space in Lot C or the next Trimper Rides lot in sequence.\n\n\n\n\n\n\n\n\nWhere to enterAll Trimper lots are accessed starting at Baltimore Ave and South 1st Street. Attendants fill lots in order and will wave you through if a lot is full. \n\n\n\nThe fine print \n\n\n\nPasses are non-refundable and non-transferable. Park at your own risk. \n\n\n\nOne check-in per pass. Leaving mid-day may require a new fee and is subject to space. \n\n\n\nOvernight parking is not permitted. Vehicle must be removed by 11:59 PM. \n\n\n\nTown road closures for entry begin around 7:00 PM. Be prepared to show your parking pass to Police Officers or others directing traffic in the area. \n\n\n\n\n\nBuying for multiple days? Add Friday\, Saturday\, and Sunday to your cart\, then check out.\n\n\n\n	\n\n		\n		\n		\n\n		\n\n\n		\n\n\n\n	Tickets\n\n		\n	\n	\n		The numbers below include tickets for this event already in your cart. Clicking "Get Tickets" will allow you to edit any existing attendee information as well as change ticket quantities.	\n\n\n		\n		\n		\n	\n		Tickets are no longer available	\n\n\n		\n	\n	\n\n	\n	\n\n	\n	\n\n\n\n			\n\n	\n\n\n\n\n\n\n	\n\n		\n		\n		\n\n		\n\n\n		\n\n\n\n	Tickets\n\n		\n	\n	\n		The numbers below include tickets for this event already in your cart. Clicking "Get Tickets" will allow you to edit any existing attendee information as well as change ticket quantities.	\n\n\n		\n		\n		\n	\n		Tickets are no longer available	\n\n\n		\n	\n	\n\n	\n	\n\n	\n	\n\n\n\n			\n\n	\n\n\n\n\n\n\n	\n\n		\n		\n		\n\n		\n\n\n		\n\n\n\n	Tickets\n\n		\n	\n	\n		The numbers below include tickets for this event already in your cart. Clicking "Get Tickets" will allow you to edit any existing attendee information as well as change ticket quantities.	\n\n\n		\n		\n		\n	\n		Tickets are no longer available
URL:https://trimperrides.com/event/country-calling-2025-friday-parking/
LOCATION:Parking Lot C\, 710 S. Baltimore Ave.\, Ocean City\, MD\, 21842\, United States
CATEGORIES:parking
ATTACH;FMTTYPE=image/png:https://trimperrides.com/wp-content/uploads/2025/08/689b5f41a48b1f428a8ee950_CC25_Admats_Socials_1080x1350-general-081125-1-scaled.png
END:VEVENT
BEGIN:VEVENT
DTSTART;TZID=America/New_York:20250928T100000
DTEND;TZID=America/New_York:20250928T235900
DTSTAMP:20260422T183821
CREATED:20250825T024714Z
LAST-MODIFIED:20250825T131705Z
UID:10000026-1759053600-1759103940@trimperrides.com
SUMMARY:Oceans Calling 2025 Sunday Parking
DESCRIPTION:Oceans Calling 2025 Saturday Lineup\n\n\n\nAvoid the hassle and ensure a stress-free experience at this year’s Oceans Calling concert by booking your parking spot directly through Trimper Rides! Our conveniently located parking lot is right by the show entrances near the inlet\, offering you quick and easy access to all the action. Don’t waste time stuck in traffic or waiting for packed buses and elusive Ubers. Reserve your parking space now and enjoy a smooth\, swift entry to an unforgettable night of music and fun. Spots are limited\, so act fast! \n\n\n\nSkip the gridlock and park steps from the festival. Your pass reserves one vehicle for Sunday\, Sept 27 in Trimper Rides Lot C or an adjacent Trimper lot. Show your QR code on arrival and our team will direct you to the next available space. \n\n\n\nFast facts \n\n\n\n\nLots open at 10:00 AM\n\n\n\nPlease arrive and park by 6:00 PM\n\n\n\nOne ticket covers one vehicle\n\n\n\nNo trailers or oversize vehicles over 20 feet\n\n\n\nNo guaranteed re-entry if you leave mid-day\n\n\n\nLast vehicle exit by 11:59 PM\n\n\n\n\n\n\n\n\nHow check-in works \n\n\n\n\nPull in from Philadelphia Ave at S. 1st St.\n\n\n\nWatch for attendants on Baltimore Ave\n\n\n\nShow your QR code to the attendant.\n\n\n\nFollow directions to your space in Lot C or the next Trimper Rides lot in sequence.\n\n\n\n\n\n\n\n\nWhere to enterAll Trimper lots are accessed starting at Baltimore Ave and South 1st Street. Attendants fill lots in order and will wave you through if a lot is full. \n\n\n\nThe fine print \n\n\n\nPasses are non-refundable and non-transferable. Park at your own risk. \n\n\n\nOne check-in per pass. Leaving mid-day may require a new fee and is subject to space. \n\n\n\nOvernight parking is not permitted. Vehicle must be removed by 11:59 PM. \n\n\n\nTown road closures for entry begin around 8:00 PM. Be prepared to show your parking pass to Police Officers or others directing traffic in the area. \n\n\n\n\n\nBuying for multiple days? Add Friday\, Saturday\, and Sunday to your cart\, then check out.\n\n\n\n\n\n\n	\n\n		\n		\n		\n\n		\n\n\n		\n\n\n\n	Tickets\n\n		\n	\n	\n		The numbers below include tickets for this event already in your cart. Clicking "Get Tickets" will allow you to edit any existing attendee information as well as change ticket quantities.	\n\n\n		\n		\n		\n	\n		Tickets are no longer available	\n\n\n		\n	\n	\n\n	\n	\n\n	\n	\n\n\n\n			\n\n	\n\n\n\n\n\n\n	\n\n		\n		\n		\n\n		\n\n\n		\n\n\n\n	Tickets\n\n		\n	\n	\n		The numbers below include tickets for this event already in your cart. Clicking "Get Tickets" will allow you to edit any existing attendee information as well as change ticket quantities.	\n\n\n		\n		\n		\n	\n		Tickets are no longer available
URL:https://trimperrides.com/event/oceans-calling-2025-sunday-parking/
LOCATION:Parking Lot C\, 710 S. Baltimore Ave.\, Ocean City\, MD\, 21842\, United States
CATEGORIES:parking
ATTACH;FMTTYPE=image/png:https://trimperrides.com/wp-content/uploads/2025/08/688a2d8c9d47f5c06cf766cc_OC25_Schedules_Sunday-1080x1080-p-3200-1.png
END:VEVENT
BEGIN:VEVENT
DTSTART;TZID=America/New_York:20250927T100000
DTEND;TZID=America/New_York:20250927T235900
DTSTAMP:20260422T183821
CREATED:20250825T024000Z
LAST-MODIFIED:20250825T131559Z
UID:10000025-1758967200-1759017540@trimperrides.com
SUMMARY:Oceans Calling 2025 Saturday Parking
DESCRIPTION:Oceans Calling 2025 Saturday lineup\n\n\n\nAvoid the hassle and ensure a stress-free experience at this year’s Oceans Calling concert by booking your parking spot directly through Trimper Rides! Our conveniently located parking lot is right by the show entrances near the inlet\, offering you quick and easy access to all the action. Don’t waste time stuck in traffic or waiting for packed buses and elusive Ubers. Reserve your parking space now and enjoy a smooth\, swift entry to an unforgettable night of music and fun. Spots are limited\, so act fast! \n\n\n\nSkip the gridlock and park steps from the festival. Your pass reserves one vehicle for Saturday\, Sept 26 in Trimper Rides Lot C or an adjacent Trimper lot. Show your QR code on arrival and our team will direct you to the next available space. \n\n\n\nFast facts \n\n\n\n\nLots open at 10:00 AM\n\n\n\nPlease arrive and park by 6:00 PM\n\n\n\nOne ticket covers one vehicle\n\n\n\nNo trailers or oversize vehicles over 20 feet\n\n\n\nNo guaranteed re-entry if you leave mid-day\n\n\n\nLast vehicle exit by 11:59 PM\n\n\n\n\n\n\n\n\nHow check-in works \n\n\n\n\nPull in from Philadelphia Ave at S. 1st St.\n\n\n\nWatch for attendants on Baltimore Ave\n\n\n\nShow your QR code to the attendant.\n\n\n\nFollow directions to your space in Lot C or the next Trimper Rides lot in sequence.\n\n\n\n\n\n\n\n\nWhere to enterAll Trimper lots are accessed starting at Baltimore Ave and South 1st Street. Attendants fill lots in order and will wave you through if a lot is full. \n\n\n\nThe fine print \n\n\n\nPasses are non-refundable and non-transferable. Park at your own risk. \n\n\n\nOne check-in per pass. Leaving mid-day may require a new fee and is subject to space. \n\n\n\nOvernight parking is not permitted. Vehicle must be removed by 11:59 PM. \n\n\n\nTown road closures for entry begin around 8:00 PM. Be prepared to show your parking pass to Police Officers or others directing traffic in the area. \n\n\n\n\n\nBuying for multiple days? Add Friday\, Saturday\, and Sunday to your cart\, then check out.\n\n\n\n\n\n\n	\n\n		\n		\n		\n\n		\n\n\n		\n\n\n\n	Tickets\n\n		\n	\n	\n		The numbers below include tickets for this event already in your cart. Clicking "Get Tickets" will allow you to edit any existing attendee information as well as change ticket quantities.	\n\n\n		\n		\n		\n	\n		Tickets are no longer available	\n\n\n		\n	\n	\n\n	\n	\n\n	\n	\n\n\n\n			\n\n	\n\n\n\n\n\n\n	\n\n		\n		\n		\n\n		\n\n\n		\n\n\n\n	Tickets\n\n		\n	\n	\n		The numbers below include tickets for this event already in your cart. Clicking "Get Tickets" will allow you to edit any existing attendee information as well as change ticket quantities.	\n\n\n		\n		\n		\n	\n		Tickets are no longer available
URL:https://trimperrides.com/event/oceans-calling-2025-saturday-parking/
LOCATION:Parking Lot C\, 710 S. Baltimore Ave.\, Ocean City\, MD\, 21842\, United States
CATEGORIES:parking
ATTACH;FMTTYPE=image/png:https://trimperrides.com/wp-content/uploads/2025/08/688a2d81aa496c5afa207a00_OC25_Schedules_Saturday-1080x1080-p-3200-1.png
END:VEVENT
BEGIN:VEVENT
DTSTART;TZID=America/New_York:20250926T100000
DTEND;TZID=America/New_York:20250926T235900
DTSTAMP:20260422T183821
CREATED:20250825T020614Z
LAST-MODIFIED:20250926T184211Z
UID:10000024-1758880800-1758931140@trimperrides.com
SUMMARY:Oceans Calling 2025 Friday Parking
DESCRIPTION:Avoid the hassle and ensure a stress-free experience at this year’s Oceans Calling concert by booking your parking spot directly through Trimper Rides! Our conveniently located parking lot is right by the show entrances near the inlet\, offering you quick and easy access to all the action. Don’t waste time stuck in traffic or waiting for packed buses and elusive Ubers. Reserve your parking space now and enjoy a smooth\, swift entry to an unforgettable night of music and fun. Spots are limited\, so act fast! \n\n\n\nSkip the gridlock and park steps from the festival. Your pass reserves one vehicle for Friday\, Sept 26 in Trimper Rides Lot C or an adjacent Trimper lot. Show your QR code on arrival and our team will direct you to the next available space. \n\n\n\nFast facts \n\n\n\n\nLots open at 10:00 AM\n\n\n\nPlease arrive and park by 6:00 PM\n\n\n\nOne ticket covers one vehicle\n\n\n\nNo trailers or oversize vehicles over 20 feet\n\n\n\nNo guaranteed re-entry if you leave mid-day\n\n\n\nLast vehicle exit by 11:59 PM\n\n\n\n\n\n\n\n\nHow check-in works \n\n\n\n\nPull in from Philadelphia Ave at S. 1st St.\n\n\n\nWatch for attendants on Baltimore Ave\n\n\n\nShow your QR code to the attendant.\n\n\n\nFollow directions to your space in Lot C or the next Trimper Rides lot in sequence.\n\n\n\n\n\n\n\n\nWhere to enterAll Trimper lots are accessed starting at Baltimore Ave and South 1st Street. Attendants fill lots in order and will wave you through if a lot is full. \n\n\n\nThe fine print \n\n\n\nPasses are non-refundable and non-transferable. Park at your own risk. \n\n\n\nOne check-in per pass. Leaving mid-day may require a new fee and is subject to space. \n\n\n\nOvernight parking is not permitted. Vehicle must be removed by 11:59 PM. \n\n\n\nTown road closures for entry begin around 8:00 PM. Be prepared to show your parking pass to Police Officers or others directing traffic in the area. \n\n\n\n\n\nBuying for multiple days? Add Friday\, Saturday\, and Sunday to your cart\, then check out.\n\n\n\n\n\n\n	\n\n		\n		\n		\n\n		\n\n\n		\n\n\n\n	Tickets\n\n		\n	\n	\n		The numbers below include tickets for this event already in your cart. Clicking "Get Tickets" will allow you to edit any existing attendee information as well as change ticket quantities.	\n\n\n		\n		\n		\n	\n		Tickets are no longer available	\n\n\n		\n	\n	\n\n	\n	\n\n	\n	\n\n\n\n			\n\n	\n\n\n\n\n\n\n	\n\n		\n		\n		\n\n		\n\n\n		\n\n\n\n	Tickets\n\n		\n	\n	\n		The numbers below include tickets for this event already in your cart. Clicking "Get Tickets" will allow you to edit any existing attendee information as well as change ticket quantities.	\n\n\n		\n		\n		\n	\n		Tickets are no longer available
URL:https://trimperrides.com/event/oceans-calling-2025-friday-parking/
LOCATION:Parking Lot C\, 710 S. Baltimore Ave.\, Ocean City\, MD\, 21842\, United States
CATEGORIES:parking
ATTACH;FMTTYPE=image/png:https://trimperrides.com/wp-content/uploads/2025/08/689b5ef0259682c5c7f67503_OC25_Schedules_Friday-1080x1080_250812-p-3200-1.png
END:VEVENT
BEGIN:VEVENT
DTSTART;TZID=America/New_York:20250518T000000
DTEND;TZID=America/New_York:20250518T235959
DTSTAMP:20260422T183821
CREATED:20250305T202557Z
LAST-MODIFIED:20250305T205805Z
UID:10000021-1747526400-1747612799@trimperrides.com
SUMMARY:Boardwalk Rock 2025 Sunday Parking
DESCRIPTION:Avoid the hassle and ensure a stress-free experience at this year’s Boardwalk Rock concert by booking your parking spot directly through Trimper Rides! Our conveniently located parking lot is right by the show entrances near the inlet\, offering you quick and easy access to all the action. Don’t waste time stuck in traffic or waiting for packed buses and elusive Ubers. Reserve your parking space now and enjoy a smooth\, swift entry to an unforgettable night of music and fun. Spots are limited\, so act fast!
URL:https://trimperrides.com/event/boardwalk-rock-2025-sunday-parking/
LOCATION:Parking Lot C\, 710 S. Baltimore Ave.\, Ocean City\, MD\, 21842\, United States
CATEGORIES:parking
ATTACH;FMTTYPE=image/png:https://trimperrides.com/wp-content/uploads/2025/03/67b60319c0d3b3bf6fb0ad02_BWR25_Schedules_Sunday-1080x1350-p-1600.png
END:VEVENT
BEGIN:VEVENT
DTSTART;TZID=America/New_York:20250517T000000
DTEND;TZID=America/New_York:20250517T235959
DTSTAMP:20260422T183821
CREATED:20250305T202105Z
LAST-MODIFIED:20250305T203752Z
UID:10000020-1747440000-1747526399@trimperrides.com
SUMMARY:Boardwalk Rock 2025 Saturday Parking
DESCRIPTION:Avoid the hassle and ensure a stress-free experience at this year’s Boardwalk Rock concert by booking your parking spot directly through Trimper Rides! Our conveniently located parking lot is right by the show entrances near the inlet\, offering you quick and easy access to all the action. Don’t waste time stuck in traffic or waiting for packed buses and elusive Ubers. Reserve your parking space now and enjoy a smooth\, swift entry to an unforgettable night of music and fun. Spots are limited\, so act fast!
URL:https://trimperrides.com/event/boardwalk-rock-2025-saturday-parking/
LOCATION:Parking Lot C\, 710 S. Baltimore Ave.\, Ocean City\, MD\, 21842\, United States
CATEGORIES:parking
ATTACH;FMTTYPE=image/png:https://trimperrides.com/wp-content/uploads/2025/03/67b642913e7513557f434a3f_BWR25_Schedules_Saturday-1080x135034-p-1600.png
END:VEVENT
END:VCALENDAR